BEGIN:VCALENDAR

VERSION:2.0

PRODID:-//hacksw/handcal//NONSGML v1.0//EN

BEGIN:VEVENT

UID:8c247cc8b0284b64a565fe10d9f74226

DTSTAMP:20260424T162744Z

DTSTART:20200229T100000

DTEND:20200229T103000

SUMMARY: - 

LOCATION:

END:VEVENT

END:VCALENDAR