BEGIN:VCALENDAR

VERSION:2.0

PRODID:-//hacksw/handcal//NONSGML v1.0//EN

BEGIN:VEVENT

UID:dd7a3eb1c3f511cb32ac6510da541664

DTSTAMP:20260424T162140Z

DTSTART:20200229T114500

DTEND:20200229T121500

SUMMARY: - 

LOCATION:

END:VEVENT

END:VCALENDAR