BEGIN:VCALENDAR

VERSION:2.0

PRODID:-//hacksw/handcal//NONSGML v1.0//EN

BEGIN:VEVENT

UID:8c413a7977dbcc6383fc5130ae1d46ca

DTSTAMP:20260424T170532Z

DTSTART:20190303T150000

DTEND:20190303T150000

SUMMARY: - 

LOCATION:

END:VEVENT

END:VCALENDAR