BEGIN:VCALENDAR

VERSION:2.0

PRODID:-//hacksw/handcal//NONSGML v1.0//EN

BEGIN:VEVENT

UID:14139239d6ad01e2b16e728e7c4a1e90

DTSTAMP:20260424T170528Z

DTSTART:20190303T143000

DTEND:20190303T150000

SUMMARY: - 

LOCATION:

END:VEVENT

END:VCALENDAR