BEGIN:VCALENDAR

VERSION:2.0

PRODID:-//hacksw/handcal//NONSGML v1.0//EN

BEGIN:VEVENT

UID:cf65e0dd8a6f9a046ba75e0020dd8ba3

DTSTAMP:20260424T170426Z

DTSTART:20190302T103000

DTEND:20190302T110000

SUMMARY: - 

LOCATION:

END:VEVENT

END:VCALENDAR