BEGIN:VCALENDAR

VERSION:2.0

PRODID:-//hacksw/handcal//NONSGML v1.0//EN

BEGIN:VEVENT

UID:d61fd3f4d74d36acfdb7d2d5be2824f5

DTSTAMP:20260424T170357Z

DTSTART:20190302T094500

DTEND:20190302T101500

SUMMARY: - 

LOCATION:

END:VEVENT

END:VCALENDAR