BEGIN:VCALENDAR

VERSION:2.0

PRODID:-//hacksw/handcal//NONSGML v1.0//EN

BEGIN:VEVENT

UID:bb174db956b7fd5d721d502133165613

DTSTAMP:20260424T170528Z

DTSTART:20190302T124500

DTEND:20190302T131500

SUMMARY: - 

LOCATION:

END:VEVENT

END:VCALENDAR