BEGIN:VCALENDAR

VERSION:2.0

PRODID:-//hacksw/handcal//NONSGML v1.0//EN

BEGIN:VEVENT

UID:330a22f2d02f026a953f1c2a95c039d9

DTSTAMP:20260424T170445Z

DTSTART:20190302T104500

DTEND:20190302T111500

SUMMARY: - 

LOCATION:

END:VEVENT

END:VCALENDAR