BEGIN:VCALENDAR

VERSION:2.0

PRODID:-//hacksw/handcal//NONSGML v1.0//EN

BEGIN:VEVENT

UID:91d185a1b5c86531110601caa2efbb21

DTSTAMP:20260424T170446Z

DTSTART:20190302T100000

DTEND:20190302T103000

SUMMARY: - 

LOCATION:

END:VEVENT

END:VCALENDAR