BEGIN:VCALENDAR

VERSION:2.0

PRODID:-//hacksw/handcal//NONSGML v1.0//EN

BEGIN:VEVENT

UID:9b3f6b6b3d5a228717646ac77db3fb5c

DTSTAMP:20260424T170425Z

DTSTART:20190302T090000

DTEND:20190302T093000

SUMMARY: - 

LOCATION:

END:VEVENT

END:VCALENDAR