BEGIN:VCALENDAR

VERSION:2.0

PRODID:-//hacksw/handcal//NONSGML v1.0//EN

BEGIN:VEVENT

UID:769ea7c1bf20c5b9a82735e32416bcbb

DTSTAMP:20260424T170554Z

DTSTART:20190302T123000

DTEND:20190302T130000

SUMMARY: - 

LOCATION:

END:VEVENT

END:VCALENDAR