BEGIN:VCALENDAR

VERSION:2.0

PRODID:-//hacksw/handcal//NONSGML v1.0//EN

BEGIN:VEVENT

UID:fd6198ac55a30e9eb4b540314c2929f9

DTSTAMP:20260424T170527Z

DTSTART:20190302T120000

DTEND:20190302T123000

SUMMARY: - 

LOCATION:

END:VEVENT

END:VCALENDAR