BEGIN:VCALENDAR

VERSION:2.0

PRODID:-//hacksw/handcal//NONSGML v1.0//EN

BEGIN:VEVENT

UID:ffbc2b963cebbff1e6b5e02edcd2ca7c

DTSTAMP:20260424T170556Z

DTSTART:20190302T134500

DTEND:20190302T141500

SUMMARY: - 

LOCATION:

END:VEVENT

END:VCALENDAR