BEGIN:VCALENDAR

VERSION:2.0

PRODID:-//hacksw/handcal//NONSGML v1.0//EN

BEGIN:VEVENT

UID:aedaae904994f7e7d3d9b5a2452177b2

DTSTAMP:20260424T170403Z

DTSTART:20190302T093000

DTEND:20190302T100000

SUMMARY: - 

LOCATION:

END:VEVENT

END:VCALENDAR