BEGIN:VCALENDAR

VERSION:2.0

PRODID:-//hacksw/handcal//NONSGML v1.0//EN

BEGIN:VEVENT

UID:dff2691f9e8d298700b3294cd9d52416

DTSTAMP:20260424T170425Z

DTSTART:20190302T110000

DTEND:20190302T113000

SUMMARY: - 

LOCATION:

END:VEVENT

END:VCALENDAR