BEGIN:VCALENDAR

VERSION:2.0

PRODID:-//hacksw/handcal//NONSGML v1.0//EN

BEGIN:VEVENT

UID:59b38e7ff91f9e45c33c7aa381de8b7a

DTSTAMP:20260424T170444Z

DTSTART:20190302T101500

DTEND:20190302T104500

SUMMARY: - 

LOCATION:

END:VEVENT

END:VCALENDAR