BEGIN:VCALENDAR

VERSION:2.0

PRODID:-//hacksw/handcal//NONSGML v1.0//EN

BEGIN:VEVENT

UID:75bb30f9bd255e6d85ba355c8f3ebe2a

DTSTAMP:20190301T155747Z

DTSTART:20190302T103000

DTEND:20190302T110000

SUMMARY:6128518 - 1/43 Cox Parade, MOUNT WARRIGAL NSW 2528

LOCATION:1/43 Cox Parade, MOUNT WARRIGAL NSW 2528

END:VEVENT

END:VCALENDAR