BEGIN:VCALENDAR

VERSION:2.0

PRODID:-//hacksw/handcal//NONSGML v1.0//EN

BEGIN:VEVENT

UID:603477226419a07cf8c0ab311e880845

DTSTAMP:20190301T160034Z

DTSTART:20190302T110000

DTEND:20190302T113000

SUMMARY:20320927 - 4/226 Shellharbour Road, WARILLA NSW 2528

LOCATION:4/226 Shellharbour Road, WARILLA NSW 2528

END:VEVENT

END:VCALENDAR