BEGIN:VCALENDAR

VERSION:2.0

PRODID:-//hacksw/handcal//NONSGML v1.0//EN

BEGIN:VEVENT

UID:b07b7c3a58bbf0b632bea23d321a350b

DTSTAMP:20190301T155911Z

DTSTART:20190302T110000

DTEND:20190302T113000

SUMMARY:4149992 - 22 Apollo Drive, SHELL COVE NSW 2529

LOCATION:22 Apollo Drive, SHELL COVE NSW 2529

END:VEVENT

END:VCALENDAR